BEGIN:VCALENDAR
VERSION:2.0
PRODID:-//ZMA - ECPv6.15.17//NONSGML v1.0//EN
CALSCALE:GREGORIAN
METHOD:PUBLISH
X-WR-CALNAME:ZMA
X-ORIGINAL-URL:https://www.zakenmarktassen.nl
X-WR-CALDESC:Evenementen voor ZMA
REFRESH-INTERVAL;VALUE=DURATION:PT1H
X-Robots-Tag:noindex
X-PUBLISHED-TTL:PT1H
BEGIN:VTIMEZONE
TZID:UTC
BEGIN:STANDARD
TZOFFSETFROM:+0000
TZOFFSETTO:+0000
TZNAME:UTC
DTSTART:20210101T000000
END:STANDARD
END:VTIMEZONE
BEGIN:VEVENT
DTSTART;TZID=UTC:20221220T173000
DTEND;TZID=UTC:20221220T210000
DTSTAMP:20260420T072842
CREATED:20221025T120016Z
LAST-MODIFIED:20221025T120016Z
UID:2897-1671557400-1671570000@www.zakenmarktassen.nl
SUMMARY:Kerstdiner
DESCRIPTION:
URL:https://www.zakenmarktassen.nl/events/kerstdiner/
END:VEVENT
END:VCALENDAR