BEGIN:VCALENDAR
VERSION:2.0
PRODID:-//ZMA - ECPv6.15.20//NONSGML v1.0//EN
CALSCALE:GREGORIAN
METHOD:PUBLISH
X-WR-CALNAME:ZMA
X-ORIGINAL-URL:https://www.zakenmarktassen.nl
X-WR-CALDESC:Evenementen voor ZMA
REFRESH-INTERVAL;VALUE=DURATION:PT1H
X-Robots-Tag:noindex
X-PUBLISHED-TTL:PT1H
BEGIN:VTIMEZONE
TZID:Europe/Helsinki
BEGIN:DAYLIGHT
TZOFFSETFROM:+0200
TZOFFSETTO:+0300
TZNAME:EEST
DTSTART:20170326T010000
END:DAYLIGHT
BEGIN:STANDARD
TZOFFSETFROM:+0300
TZOFFSETTO:+0200
TZNAME:EET
DTSTART:20171029T010000
END:STANDARD
BEGIN:DAYLIGHT
TZOFFSETFROM:+0200
TZOFFSETTO:+0300
TZNAME:EEST
DTSTART:20180325T010000
END:DAYLIGHT
BEGIN:STANDARD
TZOFFSETFROM:+0300
TZOFFSETTO:+0200
TZNAME:EET
DTSTART:20181028T010000
END:STANDARD
BEGIN:DAYLIGHT
TZOFFSETFROM:+0200
TZOFFSETTO:+0300
TZNAME:EEST
DTSTART:20190331T010000
END:DAYLIGHT
BEGIN:STANDARD
TZOFFSETFROM:+0300
TZOFFSETTO:+0200
TZNAME:EET
DTSTART:20191027T010000
END:STANDARD
BEGIN:DAYLIGHT
TZOFFSETFROM:+0200
TZOFFSETTO:+0300
TZNAME:EEST
DTSTART:20200329T010000
END:DAYLIGHT
BEGIN:STANDARD
TZOFFSETFROM:+0300
TZOFFSETTO:+0200
TZNAME:EET
DTSTART:20201025T010000
END:STANDARD
END:VTIMEZONE
BEGIN:VEVENT
DTSTART;TZID=Europe/Helsinki:20190305T173000
DTEND;TZID=Europe/Helsinki:20190305T220000
DTSTAMP:20260422T084607
CREATED:20190116T001452Z
LAST-MODIFIED:20190116T001452Z
UID:1672-1551807000-1551823200@www.zakenmarktassen.nl
SUMMARY:Bijeenkomst 05/03: Kennissessie "Opdracht afgerond? Wat nu!"
DESCRIPTION:In een ‘powersessie’ van 5 kwartier zal Arnoud Kuipers ons meevoeren in de geheimen van een succesvolle aftersales aanpak \nJe kent dat wellicht wel: tot de koop gesloten is\, wordt de prospect gepamperd\, verwend en in de watten gelegd.\nAan positieve aandacht geen gebrek. Maar zodra hij zijn handtekening heeft gezet\, valt hij in een groot zwart gat. \nDat kan natuurlijk anders. In een interactieve sessie zal Arnoud ons motiveren en inspireren hoe we met die nieuw verworven klant moeten omgaan.\nAlles wat je leert\, is direct in jouw bedrijf toepasbaar. \nHoe maken  we van deze klant een ambassadeur voor ons bedrijf? Hoe krijgen we hem zo ver dat hij voor ons reclame maakt?\nHet vergt een geringe investering van tijd en moeite\, maar dan heb je een fantastisch uithangbord voor je bedrijf. \nMeer weten over Arnoud en zijn visie op aftersales? Kijk op https://www.123aftersales.com/
URL:https://www.zakenmarktassen.nl/events/bijeenkomst-05-03-kennissessie-opdracht-afgerond-wat-nu/
CATEGORIES:Bijeenkomst,Kennissessie
END:VEVENT
BEGIN:VEVENT
DTSTART;TZID=Europe/Helsinki:20181113T173000
DTEND;TZID=Europe/Helsinki:20181113T173000
DTSTAMP:20260422T084607
CREATED:20181017T142129Z
LAST-MODIFIED:20181017T142129Z
UID:1516-1542130200-1542130200@www.zakenmarktassen.nl
SUMMARY:Bijeenkomst 13/11: Communicatie en presentatie door Geert Zomers van "Professionals in Beeld"
DESCRIPTION:Locatie en info volgt.
URL:https://www.zakenmarktassen.nl/events/bijeenkomst-13-11-communicatie-en-presentatie-door-geert-zomers-van-professionals-in-beeld/
CATEGORIES:Bijeenkomst,Kennissessie
END:VEVENT
END:VCALENDAR