BEGIN:VCALENDAR
VERSION:2.0
PRODID:-//ZMA - ECPv6.15.20//NONSGML v1.0//EN
CALSCALE:GREGORIAN
METHOD:PUBLISH
X-WR-CALNAME:ZMA
X-ORIGINAL-URL:https://www.zakenmarktassen.nl
X-WR-CALDESC:Evenementen voor ZMA
REFRESH-INTERVAL;VALUE=DURATION:PT1H
X-Robots-Tag:noindex
X-PUBLISHED-TTL:PT1H
BEGIN:VTIMEZONE
TZID:Europe/Helsinki
BEGIN:DAYLIGHT
TZOFFSETFROM:+0200
TZOFFSETTO:+0300
TZNAME:EEST
DTSTART:20150329T010000
END:DAYLIGHT
BEGIN:STANDARD
TZOFFSETFROM:+0300
TZOFFSETTO:+0200
TZNAME:EET
DTSTART:20151025T010000
END:STANDARD
BEGIN:DAYLIGHT
TZOFFSETFROM:+0200
TZOFFSETTO:+0300
TZNAME:EEST
DTSTART:20160327T010000
END:DAYLIGHT
BEGIN:STANDARD
TZOFFSETFROM:+0300
TZOFFSETTO:+0200
TZNAME:EET
DTSTART:20161030T010000
END:STANDARD
BEGIN:DAYLIGHT
TZOFFSETFROM:+0200
TZOFFSETTO:+0300
TZNAME:EEST
DTSTART:20170326T010000
END:DAYLIGHT
BEGIN:STANDARD
TZOFFSETFROM:+0300
TZOFFSETTO:+0200
TZNAME:EET
DTSTART:20171029T010000
END:STANDARD
BEGIN:DAYLIGHT
TZOFFSETFROM:+0200
TZOFFSETTO:+0300
TZNAME:EEST
DTSTART:20180325T010000
END:DAYLIGHT
BEGIN:STANDARD
TZOFFSETFROM:+0300
TZOFFSETTO:+0200
TZNAME:EET
DTSTART:20181028T010000
END:STANDARD
END:VTIMEZONE
BEGIN:VEVENT
DTSTART;VALUE=DATE:20171226
DTEND;VALUE=DATE:20171227
DTSTAMP:20260425T213343
CREATED:20170907T173402Z
LAST-MODIFIED:20170907T173402Z
UID:821-1514246400-1514332799@www.zakenmarktassen.nl
SUMMARY:Kerstreces 26/12: Geen bijeenkomst
DESCRIPTION:Geen bijeenkomst: Kerstreces
URL:https://www.zakenmarktassen.nl/events/kerstreces-2612-geen-bijeenkomst/
CATEGORIES:Geen bijeenkomst
END:VEVENT
BEGIN:VEVENT
DTSTART;TZID=Europe/Helsinki:20161227T173000
DTEND;TZID=Europe/Helsinki:20161227T203000
DTSTAMP:20260425T213343
CREATED:20161025T124645Z
LAST-MODIFIED:20161025T124645Z
UID:451-1482859800-1482870600@www.zakenmarktassen.nl
SUMMARY:Kerstreces 27/12: Geen bijeenkomst
DESCRIPTION:Geen bijeenkomst: Kerstreces
URL:https://www.zakenmarktassen.nl/events/kerstreces-2712-geen-bijeenkomst/
CATEGORIES:Geen bijeenkomst
END:VEVENT
END:VCALENDAR