BEGIN:VCALENDAR
VERSION:2.0
PRODID:-//ZMA - ECPv6.15.20//NONSGML v1.0//EN
CALSCALE:GREGORIAN
METHOD:PUBLISH
X-WR-CALNAME:ZMA
X-ORIGINAL-URL:https://www.zakenmarktassen.nl
X-WR-CALDESC:Evenementen voor ZMA
REFRESH-INTERVAL;VALUE=DURATION:PT1H
X-Robots-Tag:noindex
X-PUBLISHED-TTL:PT1H
BEGIN:VTIMEZONE
TZID:Europe/Helsinki
BEGIN:DAYLIGHT
TZOFFSETFROM:+0200
TZOFFSETTO:+0300
TZNAME:EEST
DTSTART:20150329T010000
END:DAYLIGHT
BEGIN:STANDARD
TZOFFSETFROM:+0300
TZOFFSETTO:+0200
TZNAME:EET
DTSTART:20151025T010000
END:STANDARD
BEGIN:DAYLIGHT
TZOFFSETFROM:+0200
TZOFFSETTO:+0300
TZNAME:EEST
DTSTART:20160327T010000
END:DAYLIGHT
BEGIN:STANDARD
TZOFFSETFROM:+0300
TZOFFSETTO:+0200
TZNAME:EET
DTSTART:20161030T010000
END:STANDARD
BEGIN:DAYLIGHT
TZOFFSETFROM:+0200
TZOFFSETTO:+0300
TZNAME:EEST
DTSTART:20170326T010000
END:DAYLIGHT
BEGIN:STANDARD
TZOFFSETFROM:+0300
TZOFFSETTO:+0200
TZNAME:EET
DTSTART:20171029T010000
END:STANDARD
BEGIN:DAYLIGHT
TZOFFSETFROM:+0200
TZOFFSETTO:+0300
TZNAME:EEST
DTSTART:20180325T010000
END:DAYLIGHT
BEGIN:STANDARD
TZOFFSETFROM:+0300
TZOFFSETTO:+0200
TZNAME:EET
DTSTART:20181028T010000
END:STANDARD
BEGIN:DAYLIGHT
TZOFFSETFROM:+0200
TZOFFSETTO:+0300
TZNAME:EEST
DTSTART:20190331T010000
END:DAYLIGHT
BEGIN:STANDARD
TZOFFSETFROM:+0300
TZOFFSETTO:+0200
TZNAME:EET
DTSTART:20191027T010000
END:STANDARD
END:VTIMEZONE
BEGIN:VEVENT
DTSTART;TZID=Europe/Helsinki:20181127T160000
DTEND;TZID=Europe/Helsinki:20181127T220000
DTSTAMP:20260421T095604
CREATED:20181017T142425Z
LAST-MODIFIED:20181017T142425Z
UID:1518-1543334400-1543356000@www.zakenmarktassen.nl
SUMMARY:Bijeenkomst 27/11: Kookworkshop in "Het Drents Kwartiertje"
DESCRIPTION:Informatie volgt.
URL:https://www.zakenmarktassen.nl/events/bijeenkomst-27-11-kookworkshop-in-het-drents-kwartiertje/
CATEGORIES:Bijeenkomst,Evenement,Thema avond
END:VEVENT
BEGIN:VEVENT
DTSTART;TZID=Europe/Helsinki:20171031T180000
DTEND;TZID=Europe/Helsinki:20171031T220000
DTSTAMP:20260421T095604
CREATED:20170907T173036Z
LAST-MODIFIED:20170907T173036Z
UID:813-1509472800-1509487200@www.zakenmarktassen.nl
SUMMARY:Bijeenkomst 31/10: Rondleiding en bierproeverij bij Maallust
DESCRIPTION:Voor de bijeenkomst van 31 oktober a.s. heeft onze evenementencommissaris Ronald van der Toorn een bijzondere locatie geboekt. \nRond 1825 werden duizenden bedelaars\, landlopers\, weduwen en wezen uit het hele land naar Veenhuizen verbannen. Ze woonden in drie dwanggestichten\, gebouwd door de zogenaamde Maatschappij van Weldadigheid.\nDit gevangenisdorp was geheel zelfvoorzienend\, met eigen scholen\, landerijen\, een bakker\, slachterij\, weverij en spinnerij\, kerken\, een begraafplaats en brandweerkazerne.\nDe brouwerij Maallust bevindt zich in het gebouw van de vroegere graanmaalderij van de voormalige gevangeniskolonie. \nInteressant om te zien hoe dit Drents speciaalbier in korte tijd een prominente plaats op de biermarkt heeft veroverd. Tijdens de rondleiding horen we daar meer over. En geproefd wordt er natuurlijk ook.\nBinnenlopen vanaf 18.00 uur met een hapje en een drankje\, vanaf 18.30 uur start de rondleiding in de bierbrouwerij ( met proeven). Deze rondleiding duurt één uur en aansluitend is er een buffet. \nTe leuk om te missen\, dus! Ben je verhinderd\, laat je dan eens door collega vertegenwoordigen!!!
URL:https://www.zakenmarktassen.nl/events/bijeenkomst-3110/
CATEGORIES:Bijeenkomst,Evenement
ATTACH;FMTTYPE=image/jpeg:https://www.zakenmarktassen.nl/wp-content/uploads/2017/09/maallust.jpg
END:VEVENT
BEGIN:VEVENT
DTSTART;TZID=Europe/Helsinki:20161213T173000
DTEND;TZID=Europe/Helsinki:20161213T210000
DTSTAMP:20260421T095604
CREATED:20161025T124505Z
LAST-MODIFIED:20161025T124505Z
UID:447-1481650200-1481662800@www.zakenmarktassen.nl
SUMMARY:Bijeenkomst 13/12: Kerstdiner
DESCRIPTION:Programma: \n17:30 – 18:15 Binnenkomst (informeel) \n18:15 – 19:15 Mededelingen / Bestuurswisssel \n19:30 : Kerstdiner
URL:https://www.zakenmarktassen.nl/events/bijeenkomst-1312-kerstdiner/
CATEGORIES:Bijeenkomst,Evenement
END:VEVENT
BEGIN:VEVENT
DTSTART;TZID=Europe/Helsinki:20161115T180000
DTEND;TZID=Europe/Helsinki:20161115T210000
DTSTAMP:20260421T095604
CREATED:20161025T123751Z
LAST-MODIFIED:20161025T123751Z
UID:441-1479232800-1479243600@www.zakenmarktassen.nl
SUMMARY:Bijeenkomst 15/11: Wijnproeverij door Jean Luc
DESCRIPTION:Programma \n18:00- 19:00 Binnenkomst (informeel) \n19:00 – 21:00 Wijnen proeven en diner bereid door Jean Luc \nLocatie: \nt Huys van De Gouverneur te Assen\n 
URL:https://www.zakenmarktassen.nl/events/bijeenkomst-1511-wijnproeverij-jean-luc/
CATEGORIES:Evenement
END:VEVENT
END:VCALENDAR