BEGIN:VCALENDAR
VERSION:2.0
PRODID:-//ZMA - ECPv6.15.20//NONSGML v1.0//EN
CALSCALE:GREGORIAN
METHOD:PUBLISH
X-WR-CALNAME:ZMA
X-ORIGINAL-URL:https://www.zakenmarktassen.nl
X-WR-CALDESC:Evenementen voor ZMA
REFRESH-INTERVAL;VALUE=DURATION:PT1H
X-Robots-Tag:noindex
X-PUBLISHED-TTL:PT1H
BEGIN:VTIMEZONE
TZID:Europe/Helsinki
BEGIN:DAYLIGHT
TZOFFSETFROM:+0200
TZOFFSETTO:+0300
TZNAME:EEST
DTSTART:20150329T010000
END:DAYLIGHT
BEGIN:STANDARD
TZOFFSETFROM:+0300
TZOFFSETTO:+0200
TZNAME:EET
DTSTART:20151025T010000
END:STANDARD
BEGIN:DAYLIGHT
TZOFFSETFROM:+0200
TZOFFSETTO:+0300
TZNAME:EEST
DTSTART:20160327T010000
END:DAYLIGHT
BEGIN:STANDARD
TZOFFSETFROM:+0300
TZOFFSETTO:+0200
TZNAME:EET
DTSTART:20161030T010000
END:STANDARD
BEGIN:DAYLIGHT
TZOFFSETFROM:+0200
TZOFFSETTO:+0300
TZNAME:EEST
DTSTART:20170326T010000
END:DAYLIGHT
BEGIN:STANDARD
TZOFFSETFROM:+0300
TZOFFSETTO:+0200
TZNAME:EET
DTSTART:20171029T010000
END:STANDARD
BEGIN:DAYLIGHT
TZOFFSETFROM:+0200
TZOFFSETTO:+0300
TZNAME:EEST
DTSTART:20180325T010000
END:DAYLIGHT
BEGIN:STANDARD
TZOFFSETFROM:+0300
TZOFFSETTO:+0200
TZNAME:EET
DTSTART:20181028T010000
END:STANDARD
END:VTIMEZONE
BEGIN:VEVENT
DTSTART;TZID=Europe/Helsinki:20170207T173000
DTEND;TZID=Europe/Helsinki:20170207T203000
DTSTAMP:20260423T082143
CREATED:20170103T163805Z
LAST-MODIFIED:20170103T163805Z
UID:468-1486488600-1486499400@www.zakenmarktassen.nl
SUMMARY:Bijeenkomst 07/02: Thema Avond
DESCRIPTION:Programma: \n17:30 – 18:30 Binnenkomst (informeel) \n18:30 – 18:45 Mededelingen \n18:45 – 19:30 Thema: Wat wil je dit jaar bereiken en waar kunnen wij als ZMA mee helpen! \n19:30 – 20:30 Diner
URL:https://www.zakenmarktassen.nl/events/bijeenkomst-0702-regulier/
CATEGORIES:Bijeenkomst
END:VEVENT
BEGIN:VEVENT
DTSTART;TZID=Europe/Helsinki:20170124T173000
DTEND;TZID=Europe/Helsinki:20170124T203000
DTSTAMP:20260423T082143
CREATED:20170103T163535Z
LAST-MODIFIED:20170103T163535Z
UID:466-1485279000-1485289800@www.zakenmarktassen.nl
SUMMARY:Bijeenkomst 24/01: Presentatie Anke - Albering Financieel Advies
DESCRIPTION:Programma: \n17:30 Binnenkomst informeel \n18:30 Presentatie Anke \n19:30 Diner \nLocatie: Restaurant Meusinge te Westerbork \n 
URL:https://www.zakenmarktassen.nl/events/bijeenkomst-2401-presentatie-anke-albering-financieel-advies/
CATEGORIES:Bijeenkomst
END:VEVENT
BEGIN:VEVENT
DTSTART;TZID=Europe/Helsinki:20170110T173000
DTEND;TZID=Europe/Helsinki:20170110T203000
DTSTAMP:20260423T082143
CREATED:20161213T104452Z
LAST-MODIFIED:20161213T104452Z
UID:460-1484069400-1484080200@www.zakenmarktassen.nl
SUMMARY:Bijeenkomst 10/01: Regulier
DESCRIPTION:Programma: \n17:30 – 18:30 Binnenkomst (informeel) \n18:30 – 18:45 Mededelingen  \n18:45 – 19:30 Bestuur zaken \n19:30 – 20:30 Diner
URL:https://www.zakenmarktassen.nl/events/bijeenkomst-1001-regulier/
CATEGORIES:Bijeenkomst
END:VEVENT
BEGIN:VEVENT
DTSTART;TZID=Europe/Helsinki:20161213T173000
DTEND;TZID=Europe/Helsinki:20161213T210000
DTSTAMP:20260423T082143
CREATED:20161025T124505Z
LAST-MODIFIED:20161025T124505Z
UID:447-1481650200-1481662800@www.zakenmarktassen.nl
SUMMARY:Bijeenkomst 13/12: Kerstdiner
DESCRIPTION:Programma: \n17:30 – 18:15 Binnenkomst (informeel) \n18:15 – 19:15 Mededelingen / Bestuurswisssel \n19:30 : Kerstdiner
URL:https://www.zakenmarktassen.nl/events/bijeenkomst-1312-kerstdiner/
CATEGORIES:Bijeenkomst,Evenement
END:VEVENT
BEGIN:VEVENT
DTSTART;TZID=Europe/Helsinki:20161129T173000
DTEND;TZID=Europe/Helsinki:20161129T203000
DTSTAMP:20260423T082143
CREATED:20160831T154038Z
LAST-MODIFIED:20160831T154038Z
UID:419-1480440600-1480451400@www.zakenmarktassen.nl
SUMMARY:Bijeenkomst 29/11: Presentatie Marc - Hexco
DESCRIPTION:Programma: \n17:30 – 18:15 Binnenkomst (informeel) \n18:15 – 18:45 Mededelingen  \n18:45 – 19:30 Presentatie Marc \n19:30 – 20:30 Diner
URL:https://www.zakenmarktassen.nl/events/bijeenkomst-2911-presentatie-marc/
CATEGORIES:Bijeenkomst
ATTACH;FMTTYPE=image/png:https://www.zakenmarktassen.nl/wp-content/uploads/2015/09/hexco.png
END:VEVENT
BEGIN:VEVENT
DTSTART;TZID=Europe/Helsinki:20161101T173000
DTEND;TZID=Europe/Helsinki:20161101T204500
DTSTAMP:20260423T082143
CREATED:20161025T123842Z
LAST-MODIFIED:20161025T123842Z
UID:443-1478021400-1478033100@www.zakenmarktassen.nl
SUMMARY:Bijeenkomst 01/11: Regulier
DESCRIPTION:Programma: \n17:30 – 18:30 Binnenkomst (informeel) \n18:30 – 18:45 Mededelingen  \n18:45 – 19:30 Bestuur zaken \n19:30 – 20:30 Diner
URL:https://www.zakenmarktassen.nl/events/bijeenkomst-111-regulier/
CATEGORIES:Bijeenkomst
END:VEVENT
BEGIN:VEVENT
DTSTART;TZID=Europe/Helsinki:20160322T173000
DTEND;TZID=Europe/Helsinki:20160322T203000
DTSTAMP:20260423T082143
CREATED:20151130T152036Z
LAST-MODIFIED:20151130T152036Z
UID:251-1458667800-1458678600@www.zakenmarktassen.nl
SUMMARY:Bijeenkomst 22/03 Presentatie Rutger
DESCRIPTION:Programma: \n17:30 – 18:15 Binnenkomst (informeel) \n18:30 Voorstellen aan gasten / mededelingen \n18:45 Presentatie Rutger Dijkstra \n19:30 – 20:30 Diner (informeel)
URL:https://www.zakenmarktassen.nl/events/bijeenkomst-2203-presentatie-rutger/
CATEGORIES:Bijeenkomst
END:VEVENT
END:VCALENDAR