BEGIN:VCALENDAR
VERSION:2.0
PRODID:-//ZMA - ECPv6.15.20//NONSGML v1.0//EN
CALSCALE:GREGORIAN
METHOD:PUBLISH
X-WR-CALNAME:ZMA
X-ORIGINAL-URL:https://www.zakenmarktassen.nl
X-WR-CALDESC:Evenementen voor ZMA
REFRESH-INTERVAL;VALUE=DURATION:PT1H
X-Robots-Tag:noindex
X-PUBLISHED-TTL:PT1H
BEGIN:VTIMEZONE
TZID:Europe/Helsinki
BEGIN:DAYLIGHT
TZOFFSETFROM:+0200
TZOFFSETTO:+0300
TZNAME:EEST
DTSTART:20170326T010000
END:DAYLIGHT
BEGIN:STANDARD
TZOFFSETFROM:+0300
TZOFFSETTO:+0200
TZNAME:EET
DTSTART:20171029T010000
END:STANDARD
BEGIN:DAYLIGHT
TZOFFSETFROM:+0200
TZOFFSETTO:+0300
TZNAME:EEST
DTSTART:20180325T010000
END:DAYLIGHT
BEGIN:STANDARD
TZOFFSETFROM:+0300
TZOFFSETTO:+0200
TZNAME:EET
DTSTART:20181028T010000
END:STANDARD
BEGIN:DAYLIGHT
TZOFFSETFROM:+0200
TZOFFSETTO:+0300
TZNAME:EEST
DTSTART:20190331T010000
END:DAYLIGHT
BEGIN:STANDARD
TZOFFSETFROM:+0300
TZOFFSETTO:+0200
TZNAME:EET
DTSTART:20191027T010000
END:STANDARD
END:VTIMEZONE
BEGIN:VEVENT
DTSTART;TZID=Europe/Helsinki:20180220T173000
DTEND;TZID=Europe/Helsinki:20180220T173000
DTSTAMP:20260423T082143
CREATED:20180129T154754Z
LAST-MODIFIED:20180129T154754Z
UID:1038-1519147800-1519147800@www.zakenmarktassen.nl
SUMMARY:Bijeenkomst 20/02: Bespreking gang van zaken & aanbevelingen
DESCRIPTION:We kijken met veel plezier terug op de bijeenkomst van 6 maart jl. waar Eelco Bakker van de Ondernemingsfabriek de beginselen van start-up financiering\, crowdfunding en informal investment uiteenzette.\nAan de hand van een businesscase liet hij zien hoe m.b.v. informal investment een sterk bedrijf is neergezet. \nVoor de volgende keer staat een interne avond gepland.\nN.a.v. van onze brainstormavond (‘kweekvijver’) in oktober vorig jaar is een commissie in het leven geroepen die met de resultaten van die avond aan de slag is gegaan. \nOp 20 februari a.s. presenteert de commissie\, bestaande uit Rolf\, Jantinus\, Marc\, Marco en Anton haar eerste aanbevelingen.\nHet zal onder meer gaan over beleid en voorwaarden van het ZMA-lidmaatschap en haar gasten.\nUiteraard met als doel de ZMA te continueren en de basis te verbreden. \nWe hopen zeer op jullie aanwezigheid\, en jullie inbreng tijdens deze ongetwijfeld interessante avond.\nHet gaat per slot van rekening om ONZE Zakenmarkt!
URL:https://www.zakenmarktassen.nl/events/bijeenkomst-20-02-bespreking-gang-zaken/
CATEGORIES:Bijeenkomst
END:VEVENT
END:VCALENDAR