BEGIN:VCALENDAR
VERSION:2.0
PRODID:-//ZMA - ECPv6.15.20//NONSGML v1.0//EN
CALSCALE:GREGORIAN
METHOD:PUBLISH
X-WR-CALNAME:ZMA
X-ORIGINAL-URL:https://www.zakenmarktassen.nl
X-WR-CALDESC:Evenementen voor ZMA
REFRESH-INTERVAL;VALUE=DURATION:PT1H
X-Robots-Tag:noindex
X-PUBLISHED-TTL:PT1H
BEGIN:VTIMEZONE
TZID:Europe/Helsinki
BEGIN:DAYLIGHT
TZOFFSETFROM:+0200
TZOFFSETTO:+0300
TZNAME:EEST
DTSTART:20160327T010000
END:DAYLIGHT
BEGIN:STANDARD
TZOFFSETFROM:+0300
TZOFFSETTO:+0200
TZNAME:EET
DTSTART:20161030T010000
END:STANDARD
BEGIN:DAYLIGHT
TZOFFSETFROM:+0200
TZOFFSETTO:+0300
TZNAME:EEST
DTSTART:20170326T010000
END:DAYLIGHT
BEGIN:STANDARD
TZOFFSETFROM:+0300
TZOFFSETTO:+0200
TZNAME:EET
DTSTART:20171029T010000
END:STANDARD
BEGIN:DAYLIGHT
TZOFFSETFROM:+0200
TZOFFSETTO:+0300
TZNAME:EEST
DTSTART:20180325T010000
END:DAYLIGHT
BEGIN:STANDARD
TZOFFSETFROM:+0300
TZOFFSETTO:+0200
TZNAME:EET
DTSTART:20181028T010000
END:STANDARD
END:VTIMEZONE
BEGIN:VEVENT
DTSTART;TZID=Europe/Helsinki:20171212T173000
DTEND;TZID=Europe/Helsinki:20171212T210000
DTSTAMP:20260421T095209
CREATED:20170907T173258Z
LAST-MODIFIED:20170907T173258Z
UID:819-1513099800-1513112400@www.zakenmarktassen.nl
SUMMARY:Bijeenkomst 12/12: Merry Christmas
DESCRIPTION:Het eerste jaar met een nieuw bestuur is alweer bijna om. We hopen dat jullie er net zoveel plezier aan hebben beleefd als wij. \nVan een zomerse BBQ\, een uitstapje naar Maallust\, presentaties van diverse leden tot onze spraakmakende thema-avonden (zoals het niet meer weg te denkende speeddaten) zijn wij aangekomen bij het laatste evenement van het jaar. \nHet kerstdiner! \nLekker eten\, een goed glas\, feestelijk gedekte tafels en een gezellige ambiance. Even lekker bijpraten en het jaar 2017 evalueren. Zomaar wat ingrediënten voor een fijne avond. \nTrek je foute kersttrui aan of gewoon een leuk jurkje\, zet de Kerststemming op ‘AAN’. \nWe gaan van deze avond een mooie afsluiter van 2017 maken! \nMerry Christmas!
URL:https://www.zakenmarktassen.nl/events/bijeenkomst-1212-merry-christmas/
CATEGORIES:Bijeenkomst,Festiviteit,Thema avond
END:VEVENT
END:VCALENDAR