BEGIN:VCALENDAR
VERSION:2.0
PRODID:-//ZMA - ECPv6.15.20//NONSGML v1.0//EN
CALSCALE:GREGORIAN
METHOD:PUBLISH
X-WR-CALNAME:ZMA
X-ORIGINAL-URL:https://www.zakenmarktassen.nl
X-WR-CALDESC:Evenementen voor ZMA
REFRESH-INTERVAL;VALUE=DURATION:PT1H
X-Robots-Tag:noindex
X-PUBLISHED-TTL:PT1H
BEGIN:VTIMEZONE
TZID:Europe/Helsinki
BEGIN:DAYLIGHT
TZOFFSETFROM:+0200
TZOFFSETTO:+0300
TZNAME:EEST
DTSTART:20170326T010000
END:DAYLIGHT
BEGIN:STANDARD
TZOFFSETFROM:+0300
TZOFFSETTO:+0200
TZNAME:EET
DTSTART:20171029T010000
END:STANDARD
BEGIN:DAYLIGHT
TZOFFSETFROM:+0200
TZOFFSETTO:+0300
TZNAME:EEST
DTSTART:20180325T010000
END:DAYLIGHT
BEGIN:STANDARD
TZOFFSETFROM:+0300
TZOFFSETTO:+0200
TZNAME:EET
DTSTART:20181028T010000
END:STANDARD
BEGIN:DAYLIGHT
TZOFFSETFROM:+0200
TZOFFSETTO:+0300
TZNAME:EEST
DTSTART:20190331T010000
END:DAYLIGHT
BEGIN:STANDARD
TZOFFSETFROM:+0300
TZOFFSETTO:+0200
TZNAME:EET
DTSTART:20191027T010000
END:STANDARD
END:VTIMEZONE
BEGIN:VEVENT
DTSTART;TZID=Europe/Helsinki:20180306T173000
DTEND;TZID=Europe/Helsinki:20180306T173000
DTSTAMP:20260421T094823
CREATED:20180129T154822Z
LAST-MODIFIED:20180129T154822Z
UID:1041-1520357400-1520357400@www.zakenmarktassen.nl
SUMMARY:Bijeenkomst 06/03: Presentatie Bouwmij Hendriks
DESCRIPTION:De afgelopen bijeenkomst presenteerde de in oktober in het leven geroepen commissie haar bevindingen t.a.v. het huidige beleid m.b.t. gasten en het lidmaatschap van de ZMA. Uiteraard ontstond een levendige discussie\, waarbij de terminologie (“gasten”) soms enigszins verwarrend werkte. De TC zal opnieuw bijeenkomen om de resultaten van deze avond te vervatten in een plan dat ter goedkeuring kan worden voorgelegd aan het bestuur en de leden. \nDinsdag 6 maart is Bouwmij Hendriks onze gastheer. Evert Luiken vertelt namens het bedrijf hoe de samenwerking met PrO Assen tot stand is gekomen en hoe deze in beider voordeel werkt. \nPrO Assen is een school voor praktijkonderwijs. Leerlingen leren door te doen. Met een eigen leerroute ontwikkelen ze competenties die ze nodig hebben om zelfstandig te kunnen werken. Een deel van de leerlingen stroomt na school direct door naar werk. Een ander deel komt er via een vervolgopleiding terecht. Iedere praktijkschool heeft stagecoaches en een groot netwerk aan bedrijven/organisaties om leerlingen te helpen een passende werkplek te vinden. Bouwmij Hendriks is een van die bedrijven. \nWe hopen zeer op jullie aanwezigheid bij onze Zakenmarkt!
URL:https://www.zakenmarktassen.nl/events/bijeenkomst-06-03-presentatie-bouwmij-hendriks/
CATEGORIES:Bijeenkomst,Gastspreker,Presentatie
END:VEVENT
END:VCALENDAR