BEGIN:VCALENDAR
VERSION:2.0
PRODID:-//ZMA - ECPv6.15.17//NONSGML v1.0//EN
CALSCALE:GREGORIAN
METHOD:PUBLISH
X-WR-CALNAME:ZMA
X-ORIGINAL-URL:https://www.zakenmarktassen.nl
X-WR-CALDESC:Evenementen voor ZMA
REFRESH-INTERVAL;VALUE=DURATION:PT1H
X-Robots-Tag:noindex
X-PUBLISHED-TTL:PT1H
BEGIN:VTIMEZONE
TZID:Europe/Amsterdam
BEGIN:DAYLIGHT
TZOFFSETFROM:+0100
TZOFFSETTO:+0200
TZNAME:CEST
DTSTART:20210328T010000
END:DAYLIGHT
BEGIN:STANDARD
TZOFFSETFROM:+0200
TZOFFSETTO:+0100
TZNAME:CET
DTSTART:20211031T010000
END:STANDARD
BEGIN:DAYLIGHT
TZOFFSETFROM:+0100
TZOFFSETTO:+0200
TZNAME:CEST
DTSTART:20220327T010000
END:DAYLIGHT
BEGIN:STANDARD
TZOFFSETFROM:+0200
TZOFFSETTO:+0100
TZNAME:CET
DTSTART:20221030T010000
END:STANDARD
BEGIN:DAYLIGHT
TZOFFSETFROM:+0100
TZOFFSETTO:+0200
TZNAME:CEST
DTSTART:20230326T010000
END:DAYLIGHT
BEGIN:STANDARD
TZOFFSETFROM:+0200
TZOFFSETTO:+0100
TZNAME:CET
DTSTART:20231029T010000
END:STANDARD
END:VTIMEZONE
BEGIN:VEVENT
DTSTART;TZID=Europe/Amsterdam:20221011T080000
DTEND;TZID=Europe/Amsterdam:20221011T170000
DTSTAMP:20260419T172920
CREATED:20221005T204928Z
LAST-MODIFIED:20221005T204928Z
UID:3511-1665475200-1665507600@www.zakenmarktassen.nl
SUMMARY:11 oktober 2022: informele bijeenkomst
DESCRIPTION:
URL:https://www.zakenmarktassen.nl/events/11-oktober-2022-informele-bijeenkomst/
END:VEVENT
END:VCALENDAR